BEGIN:VCALENDAR
VERSION:2.0
PRODID:-//The Orchard Church - ECPv6.15.20//NONSGML v1.0//EN
CALSCALE:GREGORIAN
METHOD:PUBLISH
X-WR-CALNAME:The Orchard Church
X-ORIGINAL-URL:https://theorchardchurch.co.nz
X-WR-CALDESC:Events for The Orchard Church
REFRESH-INTERVAL;VALUE=DURATION:PT1H
X-Robots-Tag:noindex
X-PUBLISHED-TTL:PT1H
BEGIN:VTIMEZONE
TZID:UTC
BEGIN:STANDARD
TZOFFSETFROM:+0000
TZOFFSETTO:+0000
TZNAME:UTC
DTSTART:20250101T000000
END:STANDARD
END:VTIMEZONE
BEGIN:VTIMEZONE
TZID:Pacific/Auckland
BEGIN:STANDARD
TZOFFSETFROM:+1300
TZOFFSETTO:+1200
TZNAME:NZST
DTSTART:20250405T140000
END:STANDARD
BEGIN:DAYLIGHT
TZOFFSETFROM:+1200
TZOFFSETTO:+1300
TZNAME:NZDT
DTSTART:20250927T140000
END:DAYLIGHT
BEGIN:STANDARD
TZOFFSETFROM:+1300
TZOFFSETTO:+1200
TZNAME:NZST
DTSTART:20260404T140000
END:STANDARD
BEGIN:DAYLIGHT
TZOFFSETFROM:+1200
TZOFFSETTO:+1300
TZNAME:NZDT
DTSTART:20260926T140000
END:DAYLIGHT
BEGIN:STANDARD
TZOFFSETFROM:+1300
TZOFFSETTO:+1200
TZNAME:NZST
DTSTART:20270403T140000
END:STANDARD
BEGIN:DAYLIGHT
TZOFFSETFROM:+1200
TZOFFSETTO:+1300
TZNAME:NZDT
DTSTART:20270925T140000
END:DAYLIGHT
END:VTIMEZONE
BEGIN:VEVENT
DTSTART;TZID=UTC:20260424T100000
DTEND;TZID=UTC:20261211T110000
DTSTAMP:20260424T145613
CREATED:20260415T102012Z
LAST-MODIFIED:20260416T031119Z
UID:10879-1777024800-1796986800@theorchardchurch.co.nz
SUMMARY:Mainly Music
DESCRIPTION:Join us on Fridays for Mainly Music! \nParents\, grandparents\, caregivers\, if you have a newborn through to a child starting school\, you’re invited to join us at Mainly Music. Mainly music is a programme of music and movement followed by a yummy morning tea for kids and adults. Your kids will love it and you’ll enjoy socialising with other parents and our friendly volunteers. \nFridays 10am during the school term\n$2 per session\nThe Orchard Church
URL:https://theorchardchurch.co.nz/event/mainly-music-3/2026-04-24/
LOCATION:The Orchard Church\, 20 MacLoughlin Dr\, Te Puke\, 3119\, New Zealand
CATEGORIES:Events,Kids
ATTACH;FMTTYPE=image/jpeg:https://theorchardchurch.co.nz/wp-content/uploads/MM.jpg
END:VEVENT
BEGIN:VEVENT
DTSTART;TZID=Pacific/Auckland:20260424T190000
DTEND;TZID=Pacific/Auckland:20260424T213000
DTSTAMP:20260424T145613
CREATED:20260414T022650Z
LAST-MODIFIED:20260416T041435Z
UID:10847-1777057200-1777066200@theorchardchurch.co.nz
SUMMARY:The Orchard Youth
DESCRIPTION:We’d love to have you at youth on Friday night! \nWe’re a high school-aged youth group that meets every Friday from 7–9:30pm during school terms. It’s a close\, welcoming group of youth where everyone is known by name and valued. \nWe explore the truth in God’s Word in a way that connects with the youth and the world we are living in. A highlight of the night is our small group time (“Coco Pops”)\, where we unpack the message\, ask questions\, and chat it through together. \nWe also provide supper each week—because everything’s better with food. \nCheck out the events page for other upcoming youth events. If you’ve got questions or want to be added to the weekly email with the details for the week\, send an email to jes@theorchard.net.nz.
URL:https://theorchardchurch.co.nz/event/the-orchard-youth-2/2026-04-24/
LOCATION:The Orchard Church\, 20 MacLoughlin Dr\, Te Puke\, 3119\, New Zealand
CATEGORIES:Youth
ATTACH;FMTTYPE=image/png:https://theorchardchurch.co.nz/wp-content/uploads/Rally-Quest-Flyer-Presentation-5.png
END:VEVENT
BEGIN:VEVENT
DTSTART;TZID=Pacific/Auckland:20260428T180000
DTEND;TZID=Pacific/Auckland:20260428T200000
DTSTAMP:20260424T145613
CREATED:20260415T102309Z
LAST-MODIFIED:20260416T030624Z
UID:10878-1777399200-1777406400@theorchardchurch.co.nz
SUMMARY:Kids Rally Quest
DESCRIPTION:Kid’s Rally Quest is the regular\, during term\, version of our much loved Kid’s Holiday Quest Programmes. \nRally Quest runs every second Tuesday night during term from 6pm-8pm for kids aged 7-13. You can drop your kids off for a blast and pick them back up at the end! We provide dinner and then split into junior and senior groups doing a variety of games\, activities\, skills\, challenges and just having loads of fun! The Bible is an important part of our programmes and we spend time teaching the Bible each Rally Quest night. \nBring your kids along! We would love to meet you! \n 
URL:https://theorchardchurch.co.nz/event/rally-quest/2026-04-28/
LOCATION:The Orchard Church\, 20 MacLoughlin Dr\, Te Puke\, 3119\, New Zealand
CATEGORIES:Events,Kids
ATTACH;FMTTYPE=image/png:https://theorchardchurch.co.nz/wp-content/uploads/Rally-Quest-Flyer-Presentation.png
ORGANIZER;CN="The Orchard Church":MAILTO:office@theorchard.net.nz
END:VEVENT
BEGIN:VEVENT
DTSTART;TZID=Pacific/Auckland:20260606T180000
DTEND;TZID=Pacific/Auckland:20260606T210000
DTSTAMP:20260424T145613
CREATED:20260416T033801Z
LAST-MODIFIED:20260420T004812Z
UID:10910-1780768800-1780779600@theorchardchurch.co.nz
SUMMARY:Quiz Night
DESCRIPTION:The Annual Youth Disco-Themed Quiz Fundraiser is coming up! \nDust off those flares\, sequins\, and find your most questionable mullet wig— we’re going full disco. There’ll be prizes for best dressed (the more outrageous\, the better) and prize money for the quiz champs who can actually back up their big talk. \nFuel up with food and drinks available to purchase on the night. Enjoy a live auction packed with some seriously great stuff (and probably a few things you didn’t know you needed). \nGot kids? Ages 5–12 can head to the kids’ club for their own night of fun. \nTickets are $10 pp\, with the kids’ tickets including dinner and dessert. \nGrab a team of 8\, or roll in solo and we’ll hook you up with a team on the night! \nRegister Now >> https://tithe.ly/event-registration/#/11077867 \nDate: 6th June \nTime: 6:00pm-9:00pm
URL:https://theorchardchurch.co.nz/event/quiz-night-2/
LOCATION:The Orchard Church\, 20 MacLoughlin Dr\, Te Puke\, 3119\, New Zealand
CATEGORIES:Events
ATTACH;FMTTYPE=image/jpeg:https://theorchardchurch.co.nz/wp-content/uploads/Blue-and-Red-Bold-Playful-Disco-Night-Music-Instagram-Post-Presentation.jpg
ORGANIZER;CN="The Orchard Church":MAILTO:office@theorchard.net.nz
END:VEVENT
END:VCALENDAR